<PAMDataset>
  <SRS dataAxisToSRSAxisMapping="2,1">GEOGCS["WGS 84",DATUM["WGS_1984",SPHEROID["WGS 84",6378137,298.257223563,AUTHORITY["EPSG","7030"]],AUTHORITY["EPSG","6326"]],PRIMEM["Greenwich",0],UNIT["degree",0.0174532925199433,AUTHORITY["EPSG","9122"]],AXIS["Latitude",NORTH],AXIS["Longitude",EAST],AUTHORITY["EPSG","4326"]]</SRS>
  <GeoTransform>  4.4394149775503511e+00,  3.0217395344893020e-06,  0.0000000000000000e+00,  5.2148594656724796e+01,  0.0000000000000000e+00, -3.0217395344893020e-06</GeoTransform>
  <Metadata domain="IMAGE_STRUCTURE">
    <MDI key="INTERLEAVE">PIXEL</MDI>
  </Metadata>
  <Metadata>
    <MDI key="AREA_OR_POINT">Area</MDI>
    <MDI key="COMMENT">MIN08219A03, 18-04-2002, 15:59,  8C, 7812x12032 (2162+377), 125%, Minuutplan_DIV,  1/80 s, R41.2, G22.2, B29.3</MDI>
  </Metadata>
</PAMDataset>
