<PAMDataset>
  <SRS dataAxisToSRSAxisMapping="2,1">GEOGCS["WGS 84",DATUM["WGS_1984",SPHEROID["WGS 84",6378137,298.257223563,AUTHORITY["EPSG","7030"]],AUTHORITY["EPSG","6326"]],PRIMEM["Greenwich",0],UNIT["degree",0.0174532925199433,AUTHORITY["EPSG","9122"]],AXIS["Latitude",NORTH],AXIS["Longitude",EAST],AUTHORITY["EPSG","4326"]]</SRS>
  <GeoTransform>  5.1362000304386278e+01,  7.9465076739155150e-05,  0.0000000000000000e+00,  3.5706384744145289e+01,  0.0000000000000000e+00, -7.9465076739155150e-05</GeoTransform>
  <Metadata domain="IMAGE_STRUCTURE">
    <MDI key="INTERLEAVE">PIXEL</MDI>
  </Metadata>
  <Metadata>
    <MDI key="AREA_OR_POINT">Area</MDI>
    <MDI key="Raw_profile_type_exif">exif
   16126
45786966000049492a000800000008000001040001000000890300000101040001000000
3103000002010300030000006e0000001a01050001000000740000001b01050001000000
7c000000280103000100000003000000310102000c000000840000003201020014000000
90000000a4000000080008000800fc2900005b000000fc2900005b00000047494d502032
2e31302e3800323032363a30333a30332032323a34383a32370008000001040001000000
000100000101040001000000e700000002010300030000000a0100000301030001000000
060000000601030001000000060000001501030001000000030000000102040001000000
100100000202040001000000e73d000000000000080008000800ffd8ffe000104a464946
00010100000100010000ffdb004300080606070605080707070909080a0c140d0c0b0b0c
1912130f141d1a1f1e1d1a1c1c20242e2720222c231c1c2837292c30313434341f27393d
38323c2e333432ffdb0043010909090c0b0c180d0d1832211c2132323232323232323232
323232323232323232323232323232323232323232323232323232323232323232323232
32323232ffc000110800e7010003012200021101031101ffc4001f000001050101010101
0100000000000000000102030405060708090a0bffc400b5100002010303020403050504
040000017d01020300041105122131410613516107227114328191a1082342b1c11552d1
f02433627282090a161718191a25262728292a3435363738393a434445464748494a5354
55565758595a636465666768696a737475767778797a838485868788898a929394959697
98999aa2a3a4a5a6a7a8a9aab2b3b4b5b6b7b8b9bac2c3c4c5c6c7c8c9cad2d3d4d5d6d7
d8d9dae1e2e3e4e5e6e7e8e9eaf1f2f3f4f5f6f7f8f9faffc4001f010003010101010101
0101010000000000000102030405060708090a0bffc400b5110002010204040304070504
0400010277000102031104052131061241510761711322328108144291a1b1c109233352
f0156272d10a162434e125f11718191a262728292a35363738393a434445464748494a53
5455565758595a636465666768696a737475767778797a82838485868788898a92939495
969798999aa2a3a4a5a6a7a8a9aab2b3b4b5b6b7b8b9bac2c3c4c5c6c7c8c9cad2d3d4d5
d6d7d8d9dae2e3e4e5e6e7e8e9eaf2f3f4f5f6f7f8f9faffda000c03010002110311003f
00f650858e7923018e3ae3f9fe5484307390c84f39ce319ff22a09246374b1279782097c
f381d38fc4fe59a2eaea58d14246645247c9b49dbdbf018a86ecdc9816792bbbcb0768e0
05c64f6cfe3fc8d538b538e699514fccc0704b0278cf427d07f9cd5c819e5806fb624e77
1db9e0f5a6b448a54081d30467e4c7f4fad4f2ae5b8103da4f32b8796ec296e806300f61
c671814c96d2431f9266b852c41671c1fcf1fe715326df949f2c30eb965e4fe269cd6f9d
84edcedeeebea47ad6aa4fa058cfb5b568a42a6eae237da555b7752475e7dc9f6e071815
61e09596756bbb862c3ab1e01c6dec31dff4148c924374db503ab05c05653b7ae4e39c76
a9e7be1104590aa96f97a6589047a0f7f4a84debdee54ba15a2b2f2678bcc96568b6ee20
7700723851dc1ef56cac8b1b2ec8db693e6641e3f5f6fa53919a48c36119c03b79404823
a74c8e7f9d2316991be7424a82419158290471c7d33f8d0fde93b886bcdb25024540b9c9
7121e9dfa531e111ab33a8768bfba1f008e0f39e9f8540a26f3c3979162dde8c0e39c735
2ddc7e64cf2fda093e61cae4903db18f7eb9acb95383f22a3f1218d27ef00f2f7a06dd96
04819e09fcaa5db1c900448d7ce2bbd48c9c91d47f3e2a50f08c2b328debdc1ce08ea326
a241241107dbb5e2930303a8fafd6ae6b6b19b52bab0e76312c42625646c0036e4e471f4
e783f8d3963026255115643cb37279fd383f5a88c6ef307395561b97728391c13ce739c6
69fb7f77876c953fc1c0c1edc8c91f975a971d549bb9413c6b2c6564ddc76e98e39ff3ef
4d95c3099a32a190e09c76ebfd2ac02cd3647ca490582f1f5f7aa735c3476770e4b6d50c
0ab4a1b903b0209ef569252d005b12b15a47e6329dfc805707939c6d1d0fd6955d81cb98
d14672af924f1c1001feb4c88f936a009509daa30a8002a0609ce3bd4f70f6f1c0365928
de06719e84668bbec0da5ab09a15db18f3da4232c36c602e30719f7071d6abaa148cbb17
9000cbc28048ebea6b46e1425ac914307967a0395f9b24027839ce2a8ceab728a0074d84
1ce41cfe66b387bcdea32c4c4ef918971f3139ddff00d6a821b8df769032a19769041604
e3247af4ea3a5582c8ccc3623fca3b9ee07a1c536345171149850e5f190067191fe26aa7
0d508798cbc4a4614863d187b7a9a1d76bb05298c9ec2a31f3a2fcc7bfeb8ff0a7a1e189
008e792bd0e2af923d843194fc89b19f78db958f701cf73dbafe95566b699a426ddd21c3
7cc39c1191efd783f9fd0d6947398515405c375eb508c850c429e49e7a9ff3cd64a2b6f3
19186296df3f503ef37739f5e69d11e09701b272083ebe87ff00d62980092562b908bebf
fd6a7dc06581bcbe180e83939ff3f4aa49df9b748a7a2b13478cee5c311f3658907d87a5
54bf49b622c2cc876e413c7a7047f4a8619af1a62b301e5e47fbc793fd3deaccf300e909
66dcfc9cf03e847a9ebf85394d38b4286e35994ed7d8b0ca159771e405e09c91d3bf1fca
9eb730042eac85b38008efe9f8706a38046f1aa4e9f2e49c3ae4638ff0a956de22d9f2d1
9704e7663071ff00d6159c54941dddc6f94ad14c31248235da57036904b723bfe753bc85
c7c89fc201f941391c549e5060563ebd31d4719eff008d25ca978828e1c96fe1cf27a75a
abcdf5fc3fe085e3d8ad7397948fddaa03c024e6a6dd1c3120c28da08259b1cf3fe34d82
1505896386f9be70075c1fe1feb560e369676c8c9e7927b7b1a98a9d96bf80732dac616a
1a8c114d0db4a1e59e505963b752e7e5233d071f785126b5265cc7a4ea1d7902024e723f
da1eb46af0226b5a2ca8622c279231f2904e5093ce3fd81fe456b952c0ee5407b1fa7352
f9a2e5afe07549d28c20dc6f75dfcd988baf5e430f9abe1dd4965f98073e56338e33f3fa
9a58f5cd44cf246fe1fbc2cea0a8f3e05001e72704fa76fcab7a307cbd833c1cfcbcfaff
0085481545cc649c33003d09edeb56a2ef7e67f77fc033f6d4ff00e7dafbe5fe6627dbf5
8273fd90087c9056e978e879c0fafe755a7bdd65d368d26287772435e11bbbff0070f71e
95d0a9c44cc4e4865c617ebef50791f292adb4e4fce00c853d39eb9c628e56db5ccf5feb
b02ad04efecd7fe4dfe673d1deebd7f6b1cb6d61609185126e6bb62707000e22f7a7fda7
c46ae55a2d2e356c659a569b7e3a0036a11f5cf6ef5b1a24ac74cda92b948c344a00c01b
5b1ffb29abe5e43caf9bce7eeb9f4e3b539d2b3b5d8d6263d29c7f1fd59cf97f10bdd2c2
d73a6c7b329b52de42bcf1d0c9f5e94c8a3d7cb98e3d46c46d4209fb1b1e319ff9ebfe71
5d2c8b2196424dd6371206f6c7e1f2fe99aa8d15e9c95f3876395ea318fc0e68f64af6bb
17d665fcabee461fd8fc492ca651aa5a4785238b03ce3eb25452e91acbc682ef5a7556e3
6c16d1a2af27190c18f61dfd38adfb996685ff00770bb64e384dc475ebcfb7a77a75d069
42459c0651c819e700f4cfd6b39456babfbcd21899b76b47ff00018ff918a9a26a45a371
e21b93b1494220808e84ff00cf3a77f646be66dd0ebcac1b19696c11980faa9518fc2b71
258e38f631c00b85ca1f6f6fad4819776e09d1769e7db1d3eb5ac68a5bb7f7b328e2eaa5
af2ffe031ff238ebdb7f11da79170fe2285c2cf127962c5573ba455eb927f8ab72dade79
6246fb4868d700295dbd3e8d54b5f0563d3e28c8679b50848f4c21f34fe919fc48ad8139
8cb0d8a540cf28067f1acfdd551c5df6eecbaf5bf7519492bbbec92d34ecbd40c2f0c81e
378c13b07cc7038200e727b7b553923ba4956e582ee54230243803ae71f956879c1b2191
4a9e303ffaf9a7ced119b6ec389137a83d0f23f0fe2ad14a36f757e672aa8d95e059da16
f341560e31b4e4103351b477a1ce0c3b3aae5c93dc7d3b55b78e3728e548dbd30c0f7fce
946147cbb8ecce4eeef9f71fed50ecbecff5f795ccfb9460b2b88de599d21f3250ab905b
0481cfa8c727a75fc29896334d3869bc9540983e528639e738c8e9f9d6ab4a59c48dbd58
8c63d47bf18a1952460bd0e7046781ff00eacff3a15a4aee3fd7de2e67dca2da6c4bc093
0428e889cffe3beffa53934f84e3a3375e98cfe5f4f7ab4d200b2484b01fef7bf4aaa754
b4c30f3b2c31805867f97f9cd1ec93d14439df72710a85dbd157e55cf6ff0038351450f9
9765f811804043c8faff003fae6992ea50876884c03b290bbba6e39ff026920b98238a18
8dcc6d290a19402b9720763ce30471d81eb4bd96aaf1fc0a5376dc945b2ab33a3c793d7e
ff00a63e9d07e9568b21529ba418c8c6d04771eb4d640c0132a9231dce7bfb7bd3428322
ab0ea41ca8c8fe754d5a324bfad081c6458550b02c15b21beee3dba532365917f7477281
819e40e3dbeb4491a3a3280c5463702300f1ef9a91562891a345f940c8dc474e39e07f9c
568d292d44286c953b4723e60cb9faf3d7b5359caa92b8ce460e179ebed4e1b4742a005e
08e3bfe07bd56b9b88ad4079650a1dc0c953827f2c7e758f2cb96d1eff00a8cc6f114a63
9f479ca2e12fd559b62f1ba37419c0f5603f1adb96e5523e22c10b9c2a75f97f535cf789
eeed9f478de2914ba5d5bbaa9c81c4abedc0c7d6b69afacbcc092142c582e06e3df1fcc5
1c93bcaf73a6728ba306fa5d7e4ff51f6d7664572d14800cfcb2263381fe467eb4e4ba3e
66e08b90adb5b1f74e3803f1152da982628f0c28164c10467919c1feb4b08579d372af38
0705b8f6e4e2b4b4d7539ef1ec22def9b19759254cae4296391c8e3f9d35a58ce18cad9f
5206734e8638914aa2704bee24923919cd342263688e3c039c9507f9fd6a66a5bdc17295
34bda8b7510919809e463bb1df2febfed7f9eb571638dd71c7de1fc391fcea9da00bab5e
a10181647e30000576f41feed5836ebf3e5486e07ca49c608f7a2aa9ef7edfd6c0b9498e
d591c82832493c0ebd3d7de860de5b12549381d003d7ff00ad54d268defee2d7c9923291
ab862461813db9cf507ad4e6dcc884f98ca09e80fa7d3eb4b9269bbfe60b95f509d914b9
923c1dd8185ce7a9cf6a884a8d78ed10640dc9c0c73f9fb8a91add447b55d86e0412c339
e3eb54d52e5652b0cdb13d719fcf26b34a4dfccb5649d996e5b682556765ce7e43918f94
fafcdcf414f89cb1775dc414e8c31fc40fbd5461a82479c4520c9c65c827a76c7f855a84
4ab6c14005563c63773db1c7e55ab4fcc849185ac173ad68f0ae0912492840c011b6365f
4e7eff00ebf8d6e88e33f29424fca371ef9073fcab02e0b49e308b7643db59336dc03b7c
c603ff0064f5ada8e79096fdd962d226de71d435651516db95ff00137af05682ecbf36df
e4c92450072838c6396f5fad3583c92c38db841821b8e31d8fe548fe6c884141b4a0c0cf
390c4f51f853117c962caa724127afa1fea6a6768bbc53fc4e6e469e85a51199158be400
4150738fe9fad0085460aa5b3ea7dfd07d2a2b5b8caca5d14b37001fe1f71522e5803b06
320e3d89cd6f292d1ff5b156687194212ce3615f954a8073dbaf51dbb9a97e6206312000
ed19cf5e0707fc2a9b6ef31070587cc7af5a9c7ca87780401d57b7e3f87eb571564909a1
71b547c84e7e6e3b81fe5a9c5bca88e7706e9c7231d3b7a1cd3259446a7e70c14600661c
741d7f035149225c5b6f030b9d9838ed52dd9b7d812bbb09e70b9b8214e40f50793fe7f9
54dc9201cb03c95ebfe7b5416d622d773a237cc39e491c671ce7dcd5a8d0985dc6dddc0c
961c0ce3bfd31f9d4723b5dee549abd9105bdc2c818012263a2c8a4771c818e952e732a1
277723af1fe14a32f80704ede84f3c0edcd23831e5b918192064ff00f5e9b8bf795c91a3
11f2588f981e571fd6a7605b2cacc19b6f200c74a7c6e4388f24e4649e4639c530c9bb6e
edb8da09dfb4f723a9ab51bad58863fca368219b9e4311faf1de930155f046dc7a82339f
7ff1a58ffd5b955562a3b1ebc1f434c9658d2421bcc4c6402071d319c01f8d64d46cc664
78a64f2fc39a84fb72d120940e0676b06ea3e95a89303142e5ce08ea4f5ef553578c5e68
5a8466567592d254c6d03f80fbe7f4a7698e93e916ee5570d1a9e075c8f70684a2e6d2ec
74bd70cbca4ff14bfc8ba65d9b5dba8192401ea7fc280dfbc51b4653072171920fff005a
971b8b05040c9c92a1b3df1fad3705c48643108c12724638f7c1ff0039a4a2959a5ba39d
26c54f90b0c2b00373633c633ffd7a5c6e539ced047f174e0835135f5b092e2369177213
e630c1da4a9e081c8e326a4dbbbeecd1ee524903afe43e87f5a24e3a2d7f10b34678458f
5991589cb5b838249fbad8ee07f7ab4598349b4eec32920edc738e7dfae6a84ecafae5bc
f1b100c6f1e0a91b892a4761fdd3fe356998b231731ef0c768570300918ebff02aba928f
2e8ffad8566422d2de3bc6bc1bcdc30084f98f80b83c6de9fa54e1f691f30e7279e7eb41
0700903e9b81a8eea1ec877ed3f2952067e87fcf4ab536fadca508ad07a005b183c8e306
8b7236b9576009c8f4ed519fddb861c1c105b207a7f8510aa44ac7381c839f7fff00552d
1492f506ac996119d9e2525f691c90d8ee7b60f6f7a86469097c3285653b77073cf1e9c6
320f4f6a7bccb149ce71e5f50a48fbbfe34a24591011b48518e4e0e7a9e09f7abbad8831
74c55baf12eb172edb8a98adfeef4014363ff2256ec5f2b29dca4174f976f0a3e6e99181
d7b562f8694fd96ea67033757d33b49cf2a1caafb7dd551f856c4f2c76eee4ca02ab200c
4f1d0d674e4ac74627f8ad76b2fb95bf414bb4681f6a8c03c9193d3d39ff0026a9cd3bc5
895c8f29b01c6dcf5f4f4a98de4774bbfcf47238c83d298c11de3566529f788c93c7ff00
aaaa7ac198106d0f12b411b63048edfce9b3497590b0ac9b176e4800ef18008e7a753cfb
54cc3ca8d3639daab9650393ee2adec285f03e5e71c7fb42b2d2f76bfad0d1b6922ada4c
59332a18a5276ed273b403c1fc7afd0d5a3fbc474c900a924e3b761fcbf3a6b46b219339
04e09181d30071fe7bd452db48c0889c807a9ce31e9d7a56ae4d3d7627dd6bcc85ad6459
c48646cb1cedf372bf963fce290dd44ae21e58c38322807a9e7827b631dfb532e2dcb324
2f75703a10d1b007b64640e99a71b792772c6e09ceef937018ce7d0678cf1f41592f66d7
2a7a8fe0d648b86f10440b13966dc78c9f6e9cfad4a665390cea572061b9040cfe83159e
6c85b40ce269579ddf29070d9fa55d5f2e7b58d56328aa9d73f363dffcf6ab6dab25a929
c5aba2521b3feacae3e5c6473d7d453798d0eeda09c8f981cf6a69959caed82420b60b64
e3afe543ce88b860db0f037678352b95c9eff8838b43ceccb3939c3648f94f1939a22202
c277b1258af3c67a7d3d6a269a4753b181ef8e4e33d0638e7ad2234eca005462181f4ea3
ff00ad42e451575f80f95f72573e648e1571c6768049f4feb504d6c93945902919040652
307279ebee69ff00bc60c0b8071ce71c7a5340936ab34c580e3ef71fe7f0a8e74ee920e5
f323948168cab921d4a10063208c639aa1e0d9fed7e1ab2dfe6330863ce0e39283b7f9eb
5a6d69e6294f34f0c318c8ac2f0c59472e8fe5bc92ed86468d102ae140760319538e9557
7cd169743a60a3f579af35fa9d11cefda41e30707d7dea009e7b4ca19554100950792077
e791d69f22470c60ed62471f7bf0ed5108d1802011919a22e4ed65b79ffc0308b8ad482f
34d86ef735dcaf9e582c6d8dd918e463a600fd6b3ce948d762ec178cee66550f955dc081
8e31c678fa0ad74f28b15072cbeb5360e33daaf966f776173c1eda9cfae9e905fe9d708c
eae92b6f2ec33b4c6ca323b9e9fad6f3eed8c048e4e4e083b718ff00f58acfd5163fb3c6
483b7cf8c30438eac17b7b91d39a9c69e8b1c9e549791306fe194b1e79fe3fa7f2ad2ce5
14a4f6ff0087fd48764ee8b6c3e5c60920f3ce7a535d7380588c60f07f1c565bc5a842ea
a9aa26c20f3341bcfa7f095f7ff3d6555d4d15e7796c252a766e2cd12f51d720e0fe34dc
74d1ff005f31d392e62c3162c571f291f7bfa5595c24615b7290304a920e6b29ee2f3694
92c49cf05a19030cfe38ef4e4d5116e1649ed6f638c6060c2e7b924fcbdb15851a32e67c
cbf521691d742fdddb473dc36f412a866da324f071e87d8535c47a7da4cc8caa91296da5
4e0639f7aa106af611edfb46a30ab1382b2109ed9c1fa5375e9d6ebc37791c32c65ae13c
9de8d9e5cecf5f56aa9c39536e3d0da8c633ab1837bb44fe1b83ecbe18b38e4dcf22da2b
3edeace7e63ce3d6ac4d7088044f2344ee54ae1c027a8f5f5abb6e205b62c40f2d154000
f71c63f3355ae233e524db63273f2fcb9f979c727e9fad38a8a49585526e7373eeee5096
79137fefa638cf572477c77fa55df355638dfce66393df70e70467fa554937387548fcbc
32b6e09927b9fad4d0ac99666c18c1272e318e3fc0fe143a716b620964f30c9284933890
8c1e8073c7f2fce9d6be7f96cd31dcc5c1ca8ed827dfbd38cdfe9ac8de670dc1078ce7ff
00d55202be4e48e770e00ebc7ffafd2b0bedf21913ddc56d84390001839fd793eb4f8245
b852d9c81d013d3d86298f1412b07910020ff1283c7b7f9f5a1d9214c44542a9c918e0f6
e3b7f2ad93d6ec566f61f3283139041600edcaf7f4a86128f1aba804fae3bd477826b880
344ca8dd4ee5c91d47a8f6f5e9f92c30dc24400980f5ed9fd693bb9e88d13b47726960fb
4045254292725bfcff009cd4e102a6232401f2856e0fb0fad323de8881f321c9e41e47a6
2a56caaed2bf381d73dbfa8a23b397521f6421653b58310c5f9c9ce47e14105632426723
246ddb9e7fcfe5512860bf3a7cc0eec2b0f6f6a92695fca668d4ab0e3729e4f3d29b4f9b
5620de483b8f07040cf4e3de9e590c58c1e083c95e3e9f9d50b6370cc5ae15738c01bb77
f4f4c7e66aef2c1cb2a93b7b20f51ea28a718f2ad0434801c8cae46463be71f4a6b4e238
9892ca80750781f97e353195b23f7ac0139e5b19fc00a8248d26894cab86c72a58753cf7
f6356be2603a0984aa24dfbd0b121b70c633ef589e188f645aac476208b509d769ea0798
e4647d1c11ec456ca04573c0c6df5c9c91cfea6b2b44551acf8863f9b69955c7a9fdd45f
d4566ed7835fd687551d68d48f927f73b7ea6aca9b916308921208e7eea9ea0fe46aac57
76e2e459a093cc0a5892382063f2ea3ae2af16014852324927f0e99fd6aa4b616f25df9f
2ef7976141b892002413c76e83d7a55d2494a499cee5eed90f0a1250cb1f27a903f9d4c5
b7c2c7e6c93b4938ff003ffeaa6b03129665468c7a6739eddff4c52a975c924631939e72
4fb7f9eb564d8c7d5c28b26c1c6dc4ac7b7047f87e95a8c418d136aec6627ee8c76c7bfa
d41a8db99ada745450cf110473dfa63f9d10ce9750dbcc5918b2af2dd467d38f7a3a0c7c
6628912da4843c912805b01baf7cf1f53d2a4f314db1478d09ce5c0180c3ae474a97cc48
70df75a462bf29f6ff00ebd450411c0252bb833b65b77cd93f8f4a9b17ce93d10c75d844
51bbe092490e01cfaf4c5591b58aaab727fbcb8f5f4cd5268a469940c820e787201e9d46
3fce4d5f07703bf3f28e1bf8b3fd715306db629f42bc70c4f7134a70e15b08319c0e7f2e
00fcf1589e20b288cba55bdbc3023cf7e82493673b5374a40206464a2d74877044590ee5
1c9393c7a0f51c5625e2c93f89b488833f9304535c303c80d8545e7e8ed4aabb419a5197
2cf9fb26fe693b7e269bdb9c6236f94f55538c9f5e6a26b79de09911b71dc360c8231ce7
a13ed56e9854193279c018f6eb592947b1e7ac5cba95ae6d654b3324285250c42f981b18
e3b0fc6aa2c7712221944054b0c0da4e4639ebd0fe75a8500904809523a9071555479700
2e448db98e49e7939ad62e0f448e8a559d44ccf86d2f62977c66d86f9d8bb10c492cdd47
a739efc55eb58ef9dd7ed262f2f61660990dbbdbb6284579244911b6a2927a9e7907a7e1
57a12162da591a4639caf403afea314e5acad62eefb8d48630e08cec183ebf9feb4df251
4ed2898e0921462a4605b6edc13d001ffd7a0807a1232c5b39e08e7afeb54a115b217337
d4ad719b755923da419146ddd8ea71501bab9f3d23f290a9382e070bfa54972733db2a2a
b1f306ee3ea73fa55d1f70951d8fff00ab8feb50a9abbe5d0be6ee34481d001927ae01c7
a511939c96c0e871d71fe4532645d8658c80392402383dff00a555fb0b06f3371c1e42ed
51fd6a5dd7bbfd6f725a5ba279ee23822cca762e31963d38fa7153a38946fdc0a9e412c3
a1148e3cc036459980e392010793f435224380aa18056c02378e07231cd57bdcc48dda41
190bd33c91cfd383411b1be54dd95c1e73d471e829eae77edcf3b7a637039fa67d691f0c
edd30e76ae4738fe94f91a564c1dfa0c232002ac09ed8f603d7daa9dc25d9b8cc276a06e
727a8048c0f4edf955c6e1f2621ce7e561d33ed8f6a1fe6c00792393cf39e7d2a1a5cd66
d82d88a49bc8b569191dc8c0da3e663c8f7ff38ae6f4dbf1178b7580c8cb03246e7f76d9
e508ce3d331d74e1712700e0aee04f1dbea2b19d0a78d15f2ade75a44841f40ef939fa3f
e9ef449d3497af73ab0faaa8bbc7f269fe86cc2fe72212bb59b04ee500ae471f88a10ee9
016049ddc8c75a6cd1bc8a02a31e33d381cfe55140b3433c6656dc59d4f403b9ff003fe1
57683d6272dc955ae16e3cd2f130ce793823e9ebfa54135cccb706011a796a7fd60703f4
1e9f854a625fdcaa8dacae5812727934e9a468977aa6f604118c9279fc3d7349f3ded718
fc165272518f5e0e7f415574a665d32dd048bf227964872402bc1fe4455cb2d9771f9932
884af0140db9ebc9cd67e97179704f0070c05d4b800f6dec40fd6a946166ac2d4bf22850
9c46c48cfdd1ee0f4fa0aad7179676e71348a8db43e0eeff000356940de0375da00c631c
8cfa7ad2155084ef0141032dd0e07b669aa71edf76806547a942b753195c2c6b8f2f1924
f033bbe51d38ad45bb8a450e186c5e01652067bfebfa629912f984925587246480071f51
5282c37206ef8ce703e51c8fd4517f7572a1cb7d41739240e5b003673f5f7ac5b6669bc5
da8bf94ab1c16d1438cf2199999ba1f4dbf9715b98dadb480d827a2e3d7d2b0f45569af7
59bb756dad7ef1a60e784554e33fed2b1c0ace4db69346d497b936fb5bf15fa5cd19636c
828cca9d0e0fd7919fc3f2a92d54850b3390e4819c6476f7f5cd48c0e4b38c003ab7403d
3be685cf9849c13c800907a9c74fa1aa6e0f46733845ee86c803c0e3705c82067afe99f5
acd45cc6579ed9757ca8c9e7ff00af535fce8806e6556c82773630c4f03df3e94d16d1c7
32b15ddd5718ce01c73edd29462b99d8b8c1538e9d4590b19a3f9cb8ea76f18fc8d58b55
545439ce403827a9a6b011a7c9b57b9fa52432c6d8f2dc617f4f4ad362af72da0392020c
e3820ff5a240a47cb966ddd00cf4aaef3c83ca51c3bbed0cc85863073cf6e9ff00eba9d8
18fe60ce33df764023fcfe94c823444372bc0ce31807a73d7dbad4b82a015041ce476c7e
3c53210c92b2039249258ae49fd2a42a64c72091fed05eb531d8a9022092361c00ddf19c
9a640008cab32b10e47e391ed8a9030da40da8d9dd9f5fe7ed50c6c9e7941c12bb958e38
c1c7a669497bc982d9a069882cfb88e7031f9fa7d2a6723cd8ce1b710081cf5c9f41eb51
fcdbf073851f31038f53cf6a9e3f9b048cff001027a0f5c7f9e315306e4af7111f490370
369383c8e9d33c76c8a901d8a1c00517ae58ff002fc69b967640c70ac318ec7fc8a10831
65b1800a8c76c7073fa5559f715c6c407c8a1941ce73d3bf4fd69240dbc1c303f4ebc7a7
e14c6c00391c13c1c734f24b2065184c8c7a71d71530f79735c13baba242aec460a36500
2770f7ae6ef2292dfc67a7069079735bc9b464100abc78e9cff1574712919f9485239247
a0c1fd6b9ed694a6aba3cbc16cc8a180e40233f8fdc1f90a2bfc075e09fef6ddd3fc99be
1011cba853c13b483d327a8a5c6d4046ff0090e4f519cfff00abf5a41bfc976404a0c119
5fcffa7e554a59d9380ccdb8e30c063d6b4693dce54ae5e40aa1ce77b718de7b67dff0a6
24b803745137039207503eb8aaf0c81a2f99958af058771ebc71ff00eaa75d5cc168b34b
3cb1c4809197c019cd428253565fd680f4dc9e460b33aaede188c08d6a958eff00b66a2b
2249f2ceacbf2740517b0fa1a8cea324a41b7b3bb70d8e5d7cbe7fe0441f5ed55ecee2e1
f539c496ef1178d1b6310739dd820827b63f3ad5fba9dffad44bded8d9729bbe662770dc
0040303a763fe7154f5251258baa3c4ad800174240f52783ce3db1564b5da42a0c831b79
6271fc471d0d31da731b82770039fe2c7e62a2351a7748a70e8d90d947e4d8436f1c48a2
350832c4f438ebd4d4b2442624b0db9e7201fa0e4fd2a2fb44893796b1af96a7024f353a
71838c67d6ae01f27df42c482a41c023d891cd52bf525dba11daa0b78c6f66765c966c01
9039e8060564f85558f876dae1c106e0bdc80474123b38edce037e957b5bb8363a2ea174
2353e4dacae096f443b7a1efc0a92cad4da585bdb8eb1428bc0eb8007f8d47db3a16941f
9b5f827fe689d5d77ae42f3dce7819f6aa696d22aaa25e4cc40072caa49f5cf1ed574b19
241b233b411ee463f1a6001796cf5c673fe715a26d1cf629dc5a49e52a3dc48c370f95d4
7f51faf5a822b490c3b7ed32aa83c820720d5c9b0655f958004e46294b2ef54c9527902b
1751a9348eba54a32826ca2b19b7991a49e5743198c29c01c91c9f7e3f53578b011e0938
5e39e82a2961ce085390369c63a77fe95205f9480011d4f149d46f72feaf1be84c36c719
7217d4e4807d075a97cc21954ed1dfa83c7a7e46aaec19fbb8f520e290b3c6accac4b60f
51d2abda2ea652c34ba12439f219806dcd26e073d3bd4e07ccb9571f51d85431c1208804
38ddc00cbedfe19a50fb1306363bbbaff9c7714a134a2ae6528ddbb1288f7707924e073d
3e95543abea402e597695639cd4e93ab30dafc003f1fc6a089b75e4df307f2fe511f1f31
38effe7ad12945dacfa8945abdd17360313390092402e3b739ede98a8fcc5dc30ebb957a
9e727aff009e69c5774a88e4af00648e47d3d2ab3d82dc3331e19b8c82476e39cd5f2448
2da287edf786e4c671fe7ffad513ee0bb900cb77039cfe153a28f950ae0900071ebfe7de
9b92b230fba586e20f5c8ff38fc297247b0ee0c0885b233903a938ebf5aa7776cd2ed28c
23e3860b9ebf53d891533f326371ee173f4e2a4409b42e705948603bf7a9e48f3342b8d8
97ca8d10a90700672067deb07c4ee239345918043f6cdbf3374cc52281d3d71f8e2ba160
80052067d18e7e95cbf8aef666d1626b9b792dd85e42ff00781c7ef171fa6689d1bc1dbf
33ab07251af1bf5d3efd0e92042ca9709bc0da46188da7b1fc7fc2a86a32c50c6d2cb247
1a8cfcec4019edd6aa595edfdf0822b4b6686ddbef5c4eb9e0fa2641fc491f8d5bb7d262
8ee92e1d9ee2e0c2c3cc93939c30e3b2fd062b6843917bece672d5f294e137f3e5ad2210
4127496e14fe89c1e87be2af43a75bdb5ca492b99ee481896620b6703381d07e0055e181
0a8930a773751cf4155eeef2ceda55799b0db472109c003d854ce565eea339bd1e9765b1
2411c63cd504ef271dfa5652854d76328362c90370338c2b2e33ff007d568a471dec4cd1
9126177a6d6e09c71cfe35957a92c1ad69c655da1bcc8c85e8095dc075ff0066a68ef6f2
62a6ff00768d6760c8301400bdb91d4ff8d45300508c1ce46186303f0a9d2590630f271d
81273d3fc4d453b191a35054927a9ebfa8a73f859b47725624aa8c8c609e0f5fcfe94220
54c44ab86f9828427d81ff00f57b52ef6254249205271843dbd853243bdb0cdbc310371f
41fe73544995e26ca6911422270f3dd4108dc0f42e377e9b8fe15af29049d8fc76f9ba9f
ceb135793ccd6b45b5080cad3bcee39fba91b0cf3fed3a56fc8d0b200b16c23248ce38c1
acd3f799d15172d282ef77f8dbf4226565c7cb8270318c67ff00d750cb3456a8d3338099
032416183c7f33529085d587008e7a673fe714a43004b3afdded9e791cfe95a1ce66bea0
8f788be6462209bb799390d9e9b7b7069f1ce9bd64de8cb20c03b80e9d7eb529d86e5ca8
c950003f5c67b71d29ca01e0727be4fa5612716f4477d24d415c72e076e7da931df3d7f5
a7b4642e723d471503dcc31304795632c70039c76e94accd3993d6e4a3eeee2dbbdea395
b60cf2c3a74f5a70cb0078e793de89088d06e190cc0671d2a65b0376572c46a162547257
231c7233c52f99b642bbf040001dd9c9edf97342ed539c0c601ca1ebebfe34d3182d92bd
3a81c0aea3cd1cc762b6e6283a63b7e159d1db8bc9a67908c6fc204e7691df1ee31fad5a
bb05a038f949c92cad8201fc38a6dac0f12b12ece73f2ee7c907a63a0ff39ac2a45ca491
71938aba65947652e41c0c60e7201edd07b7b50d28690e029643cf18e47d2a078e484796
18ed2013927d3ffae69104e771f2c1dcd9c818cfe34e755457bda112836bdd65b76df139
c00093939ce4f1fe7f1a689d005531ee51d327181e9df8a84c8638cabc7d79c8c1f4fa7a
54619d802abc1cf27daa95583d995c922cb4adbdb0fc76238c8f7ffebd4588e062eff336
ddb824e3ea07e1511f35d973c29c03cf23f2ff001a9046a172c09dc72c4f04faff009fad
63272e7e648854d29733634b998a88d4a83fc4475ac6f15dbecf0edc5e0cee88c5333739
c4722b1c7e0091f5c56e45676eb290cab8033d49ec4d67f892d05d787f53850e3fd19c8c
f23ee1e79aa9464e2f997f5f71d7869c635e0d775f99774f522d918b264e40048c8fd6ad
058f2bf32e56339ce7a9cfa7d6b0ac16468619c0b872ca4ed42368f94751f9fe556cc977
127eead66763d5091c73ea78fd6b4a7cce2ac8c6aa5ceefdcd121634211a300b0ce013eb
ea3dab3353899927890af9c60c00e30392c3fa52225cbddb315ba2aecb956550a9db23d4
75f5a86e6393509bccbbd3374ad1b2a3808485dc4e3a8ebfd056967dbf22159750f0fde2
adbc4b6ac4c45768627278e39fcaaceac577da5cca72639d796ff6be5ffd9a99690886da
0f2ecd2058f2a91ae1768e8381ed838ed4dbe8a7b8b26427e60f1bae3fd960d8fd2a5c97
b5bbd175308d19dee9e86ae32c3017941803bfca3ad42c4bce8304ed04e4f1eb55a5d5ca
2c6af0b282a5465c0cf001aa8ba966f1d9add1230985733a61bae7a9e319aa70725746eb
47a9b2ac114b2f0517273ebdbf522907088ca3904f7f6fa5538ee659e39596181831e313
9f948f5f97de91e6d417205a42c53825a723d7fd9a092a6e171e318d0a16fb358b13cf0b
e638c7fe8b35acc589625b07a0e7afe7ed587a4cb34faf6ad2bc41658fc98387dca30bbf
a9c671e61ad95126d1f2a95cf5c7a564a495db3a6bad631ec97e2aff009b242a401bb2b8
078cff009eb415505b2a4e38e3a7eb546e0dc63f72c85c673bd5b1d3d47f9e3f259e4760
aac14050093d091dbf1c53f69e463c9e65884870db48fbd8c919c539a06570eae8540c38
3ea4718a8ede3ebb5c2a7d3233d3b54ca993f34ac31d00f5ff0022b385dabd8de5351d13
1259ede1d914b310cd80005cfbf4cfd69b70f1ac7f2ab4bbd80da30383dcf3d29ff67852
769360f3400acc4f5229db15492992dd063ae3af4eff008d69cb232f685485618e1245bb
471a8c811af00773ec3e95564d52dda60b1c88f10073bc9560df43db1939cd6c33468a1a
58636f98e18904a77cfeb59ef7f23ea2c1adce3206f046d1819e3bf4e2a5a4be2febf329
