<PAMDataset>
  <SRS dataAxisToSRSAxisMapping="2,1">GEOGCS["WGS 84",DATUM["WGS_1984",SPHEROID["WGS 84",6378137,298.257223563,AUTHORITY["EPSG","7030"]],AUTHORITY["EPSG","6326"]],PRIMEM["Greenwich",0],UNIT["degree",0.0174532925199433,AUTHORITY["EPSG","9122"]],AXIS["Latitude",NORTH],AXIS["Longitude",EAST],AUTHORITY["EPSG","4326"]]</SRS>
  <GeoTransform> -1.2850857982442335e+02,  2.5407848672298512e-02,  0.0000000000000000e+00,  9.4262534604940498e+01,  0.0000000000000000e+00, -2.5407848672298512e-02</GeoTransform>
  <Metadata domain="IMAGE_STRUCTURE">
    <MDI key="INTERLEAVE">PIXEL</MDI>
  </Metadata>
  <Metadata>
    <MDI key="AREA_OR_POINT">Area</MDI>
    <MDI key="EXIF_ResolutionUnit">3</MDI>
    <MDI key="EXIF_Software">Paint.NET 5.1.11</MDI>
    <MDI key="EXIF_XResolution">(236.219)</MDI>
    <MDI key="EXIF_YResolution">(236.219)</MDI>
  </Metadata>
</PAMDataset>
