<PAMDataset>
  <SRS dataAxisToSRSAxisMapping="2,1">GEOGCS["WGS 84",DATUM["WGS_1984",SPHEROID["WGS 84",6378137,298.257223563,AUTHORITY["EPSG","7030"]],AUTHORITY["EPSG","6326"]],PRIMEM["Greenwich",0],UNIT["degree",0.0174532925199433,AUTHORITY["EPSG","9122"]],AXIS["Latitude",NORTH],AXIS["Longitude",EAST],AUTHORITY["EPSG","4326"]]</SRS>
  <GeoTransform>  1.3359990587929437e+01,  8.4236048877576470e-06,  0.0000000000000000e+00,  5.2508060855230724e+01,  0.0000000000000000e+00, -8.4236048877576470e-06</GeoTransform>
  <Metadata domain="IMAGE_STRUCTURE">
    <MDI key="INTERLEAVE">PIXEL</MDI>
  </Metadata>
  <Metadata>
    <MDI key="AREA_OR_POINT">Area</MDI>
    <MDI key="EXIF_DateTimeDigitized">2025:08:09 15:39:11</MDI>
    <MDI key="EXIF_DateTimeOriginal">2025:08:09 15:39:11</MDI>
    <MDI key="EXIF_ExifVersion">0221</MDI>
    <MDI key="EXIF_Make">Canon</MDI>
    <MDI key="EXIF_Model">MX510 series</MDI>
    <MDI key="EXIF_SubSecTime_Digitized">00</MDI>
    <MDI key="EXIF_SubSecTime_Original">00</MDI>
    <MDI key="EXIF_WhiteBalance">0</MDI>
  </Metadata>
</PAMDataset>
