<PAMDataset>
  <SRS dataAxisToSRSAxisMapping="2,1">GEOGCS["WGS 84",DATUM["WGS_1984",SPHEROID["WGS 84",6378137,298.257223563,AUTHORITY["EPSG","7030"]],AUTHORITY["EPSG","6326"]],PRIMEM["Greenwich",0],UNIT["degree",0.0174532925199433,AUTHORITY["EPSG","9122"]],AXIS["Latitude",NORTH],AXIS["Longitude",EAST],AUTHORITY["EPSG","4326"]]</SRS>
  <GeoTransform>  8.7929751228236874e+00,  6.8153520467223721e-04,  0.0000000000000000e+00,  5.3093588277811726e+01,  0.0000000000000000e+00, -6.8153520467223721e-04</GeoTransform>
  <Metadata domain="IMAGE_STRUCTURE">
    <MDI key="INTERLEAVE">PIXEL</MDI>
  </Metadata>
  <Metadata>
    <MDI key="AREA_OR_POINT">Area</MDI>
    <MDI key="Software">Adobe ImageReady</MDI>
    <MDI key="XML_com.adobe.xmp">&lt;?xpacket begin="&#xFEFF;" id="W5M0MpCehiHzreSzNTczkc9d"?&gt; &lt;x:xmpmeta xmlns:x="adobe:ns:meta/" x:xmptk="Adobe XMP Core 5.3-c011 66.145661, 2012/02/06-14:56:27        "&gt; &lt;rdf:RDF xmlns:rdf="http://www.w3.org/1999/02/22-rdf-syntax-ns#"&gt; &lt;rdf:Description rdf:about="" xmlns:xmp="http://ns.adobe.com/xap/1.0/" xmlns:xmpMM="http://ns.adobe.com/xap/1.0/mm/" xmlns:stRef="http://ns.adobe.com/xap/1.0/sType/ResourceRef#" xmp:CreatorTool="Adobe Photoshop CS6 (Windows)" xmpMM:InstanceID="xmp.iid:E0E20BBB56CA11E2B144D99FF5585972" xmpMM:DocumentID="xmp.did:E0E20BBC56CA11E2B144D99FF5585972"&gt; &lt;xmpMM:DerivedFrom stRef:instanceID="xmp.iid:E0E20BB956CA11E2B144D99FF5585972" stRef:documentID="xmp.did:E0E20BBA56CA11E2B144D99FF5585972"/&gt; &lt;/rdf:Description&gt; &lt;/rdf:RDF&gt; &lt;/x:xmpmeta&gt; &lt;?xpacket end="r"?&gt;</MDI>
  </Metadata>
</PAMDataset>
